BEGIN:VCALENDAR
VERSION:2.0
PRODID:spatie/icalendar-generator
DESCRIPTION:Veranstaltungen von Isas Tanzstudio
X-WR-CALDESC:Veranstaltungen von Isas Tanzstudio
REFRESH-INTERVAL;VALUE=DURATION:PT1440M
X-PUBLISHED-TTL:PT1440M
BEGIN:VTIMEZONE
TZID:Etc/GMT-2
BEGIN:STANDARD
DTSTART:20250703T181000Z
TZOFFSETFROM:+0200
TZOFFSETTO:+0200
END:STANDARD
END:VTIMEZONE
BEGIN:VTIMEZONE
TZID:UTC
BEGIN:STANDARD
DTSTART:20250728T190949Z
TZOFFSETFROM:+0000
TZOFFSETTO:+0000
END:STANDARD
END:VTIMEZONE
BEGIN:VEVENT
UID:263-6
DTSTAMP:20260424T190949Z
SUMMARY:Open Style für Erwachsene - Anfänger
LOCATION:
ORGANIZER;CN=admin:MAILTO:lara262@gmx.de
RRULE:FREQ=WEEKLY;UNTIL=20260331T000000Z
DTSTART;TZID=Etc/GMT-2:20260330T181000
DTEND;TZID=Etc/GMT-2:20260330T191000
X-ALT-DESC;FMTTYPE=TEXT/HTML:
CATEGORIES:General
URL;VALUE=URI:https://isastanzstudio.de/mc-events/open-style-fuer-erwachsen
 e-anfaenger/?mc_id=263
METHOD:PUBLISH
END:VEVENT
END:VCALENDAR